BEGIN:VCALENDAR
VERSION:2.0
PRODID:-//OperaLex - ECPv6.15.20//NONSGML v1.0//EN
CALSCALE:GREGORIAN
METHOD:PUBLISH
X-WR-CALNAME:OperaLex
X-ORIGINAL-URL:https://operalex.org
X-WR-CALDESC:Events for OperaLex
REFRESH-INTERVAL;VALUE=DURATION:PT1H
X-Robots-Tag:noindex
X-PUBLISHED-TTL:PT1H
BEGIN:VTIMEZONE
TZID:UTC
BEGIN:STANDARD
TZOFFSETFROM:+0000
TZOFFSETTO:+0000
TZNAME:UTC
DTSTART:20230101T000000
END:STANDARD
END:VTIMEZONE
BEGIN:VEVENT
DTSTART;TZID=UTC:20240616T140000
DTEND;TZID=UTC:20240616T163000
DTSTAMP:20260420T132018
CREATED:20240404T232613Z
LAST-MODIFIED:20240404T232613Z
UID:2333-1718546400-1718555400@operalex.org
SUMMARY:Grand Night For Singing
DESCRIPTION:“It’s a Grand Night for Singing!” presented by UK Opera Theatre \nFor over 30 years\, the University of Kentucky Opera Theatre has been delighting summertime audiences with the Emmy Award-winning singalong spectacular\, featuring the best of Broadway from today and yesterday. Join us for a celebration with the best and brightest talent in Central Kentucky. \nDiscounted tickets for Groups 10+ and University of Kentucky Faculty & Staff are available directly from the Singletary Center Ticket Office.
URL:https://operalex.org/event/grand-night-for-singing-6/
LOCATION:Singletary Concert Hall\, 405 Rose Street\, Lexington\, KY\, 40508\, United States
ATTACH;FMTTYPE=image/jpeg:https://operalex.org/wp-content/uploads/2024/04/gn-2024-event-image.jpg
END:VEVENT
BEGIN:VEVENT
DTSTART;TZID=UTC:20240615T193000
DTEND;TZID=UTC:20240615T220000
DTSTAMP:20260420T132019
CREATED:20240404T232444Z
LAST-MODIFIED:20240404T232444Z
UID:2331-1718479800-1718488800@operalex.org
SUMMARY:Grand Night For Singing
DESCRIPTION:“It’s a Grand Night for Singing!” presented by UK Opera Theatre \nFor over 30 years\, the University of Kentucky Opera Theatre has been delighting summertime audiences with the Emmy Award-winning singalong spectacular\, featuring the best of Broadway from today and yesterday. Join us for a celebration with the best and brightest talent in Central Kentucky. \nDiscounted tickets for Groups 10+ and University of Kentucky Faculty & Staff are available directly from the Singletary Center Ticket Office.
URL:https://operalex.org/event/grand-night-for-singing-5/
LOCATION:Singletary Concert Hall\, 405 Rose Street\, Lexington\, KY\, 40508\, United States
CATEGORIES:Performance
ATTACH;FMTTYPE=image/jpeg:https://operalex.org/wp-content/uploads/2024/04/gn-2024-event-image.jpg
END:VEVENT
BEGIN:VEVENT
DTSTART;TZID=UTC:20240615T140000
DTEND;TZID=UTC:20240615T163000
DTSTAMP:20260420T132019
CREATED:20240404T232235Z
LAST-MODIFIED:20240404T232235Z
UID:2329-1718460000-1718469000@operalex.org
SUMMARY:Grand Night For Singing
DESCRIPTION:“It’s a Grand Night for Singing!” presented by UK Opera Theatre \nFor over 30 years\, the University of Kentucky Opera Theatre has been delighting summertime audiences with the Emmy Award-winning singalong spectacular\, featuring the best of Broadway from today and yesterday. Join us for a celebration with the best and brightest talent in Central Kentucky. \nDiscounted tickets for Groups 10+ and University of Kentucky Faculty & Staff are available directly from the Singletary Center Ticket Office.
URL:https://operalex.org/event/grand-night-for-singing-4/
LOCATION:Singletary Concert Hall\, 405 Rose Street\, Lexington\, KY\, 40508\, United States
CATEGORIES:Performance
ATTACH;FMTTYPE=image/jpeg:https://operalex.org/wp-content/uploads/2024/04/gn-2024-event-image.jpg
END:VEVENT
BEGIN:VEVENT
DTSTART;TZID=UTC:20240614T193000
DTEND;TZID=UTC:20240614T220000
DTSTAMP:20260420T132019
CREATED:20240404T231811Z
LAST-MODIFIED:20240404T231811Z
UID:2325-1718393400-1718402400@operalex.org
SUMMARY:Grand Night for Singing
DESCRIPTION:“It’s a Grand Night for Singing!” presented by UK Opera Theatre \nFor over 30 years\, the University of Kentucky Opera Theatre has been delighting summertime audiences with the Emmy Award-winning singalong spectacular\, featuring the best of Broadway from today and yesterday. Join us for a celebration with the best and brightest talent in Central Kentucky. \nDiscounted tickets for Groups 10+ and University of Kentucky Faculty & Staff are available directly from the Singletary Center Ticket Office.
URL:https://operalex.org/event/grand-night-for-singing-3/
LOCATION:Singletary Concert Hall\, 405 Rose Street\, Lexington\, KY\, 40508\, United States
CATEGORIES:Performance
ATTACH;FMTTYPE=image/jpeg:https://operalex.org/wp-content/uploads/2024/04/gn-2024-event-image.jpg
END:VEVENT
BEGIN:VEVENT
DTSTART;TZID=UTC:20240609T180000
DTEND;TZID=UTC:20240609T203000
DTSTAMP:20260420T132019
CREATED:20240404T231602Z
LAST-MODIFIED:20240404T231602Z
UID:2323-1717956000-1717965000@operalex.org
SUMMARY:Grand Night For Singing
DESCRIPTION:“It’s a Grand Night for Singing!” presented by UK Opera Theatre \nFor over 30 years\, the University of Kentucky Opera Theatre has been delighting summertime audiences with the Emmy Award-winning singalong spectacular\, featuring the best of Broadway from today and yesterday. Join us for a celebration with the best and brightest talent in Central Kentucky. \nDiscounted tickets for Groups 10+ and University of Kentucky Faculty & Staff are available directly from the Singletary Center Ticket Office.
URL:https://operalex.org/event/grand-night-for-singing-2/
LOCATION:Singletary Concert Hall\, 405 Rose Street\, Lexington\, KY\, 40508\, United States
CATEGORIES:Performance
ATTACH;FMTTYPE=image/jpeg:https://operalex.org/wp-content/uploads/2024/04/gn-2024-event-image.jpg
END:VEVENT
BEGIN:VEVENT
DTSTART;TZID=UTC:20240608T140000
DTEND;TZID=UTC:20240608T163000
DTSTAMP:20260420T132019
CREATED:20240404T231414Z
LAST-MODIFIED:20240404T231414Z
UID:2321-1717855200-1717864200@operalex.org
SUMMARY:Grand Night For Singing
DESCRIPTION:“It’s a Grand Night for Singing!” \npresented by UK Opera Theatre \nFor over 30 years\, the University of Kentucky Opera Theatre has been delighting summertime audiences with the Emmy Award-winning singalong spectacular\, featuring the best of Broadway from today and yesterday. Join us for a celebration with the best and brightest talent in Central Kentucky. \nDiscounted tickets for Groups 10+ and University of Kentucky Faculty & Staff are available directly from the Singletary Center Ticket Office.
URL:https://operalex.org/event/grand-night-for-singing/
LOCATION:Singletary Concert Hall\, 405 Rose Street\, Lexington\, KY\, 40508\, United States
CATEGORIES:Performance
ATTACH;FMTTYPE=image/jpeg:https://operalex.org/wp-content/uploads/2024/04/gn-2024-event-image.jpg
END:VEVENT
BEGIN:VEVENT
DTSTART;TZID=UTC:20240607T193000
DTEND;TZID=UTC:20240607T220000
DTSTAMP:20260420T132019
CREATED:20240404T230733Z
LAST-MODIFIED:20240404T230733Z
UID:2316-1717788600-1717797600@operalex.org
SUMMARY:Grand Night For Singing - Opening Night
DESCRIPTION:“It’s a Grand Night for Singing!”  presented by UK Opera Theatre \nFor over 30 years\, the University of Kentucky Opera Theatre has been delighting summertime audiences with the Emmy Award-winning singalong spectacular\, featuring the best of Broadway from today and yesterday. Join us for a celebration with the best and brightest talent in Central Kentucky. \nDiscounted tickets for Groups 10+ and University of Kentucky Faculty & Staff are available directly from the Singletary Center Ticket Office.
URL:https://operalex.org/event/grand-night-for-singing-opening-night/
LOCATION:Singletary Concert Hall\, 405 Rose Street\, Lexington\, KY\, 40508\, United States
CATEGORIES:Performance
ATTACH;FMTTYPE=image/jpeg:https://operalex.org/wp-content/uploads/2024/04/gn-2024-event-image.jpg
END:VEVENT
END:VCALENDAR